Package: hmdbQuery Version: 1.28.0 Command: /home/biocbuild/R/R/bin/R CMD build --keep-empty-dirs --no-resave-data hmdbQuery StartedAt: 2025-10-14 01:41:39 -0000 (Tue, 14 Oct 2025) EndedAt: 2025-10-14 01:42:15 -0000 (Tue, 14 Oct 2025) EllapsedTime: 36.0 seconds RetCode: 0 Status: OK PackageFile: hmdbQuery_1.28.0.tar.gz PackageFileSize: 776.3 KiB