Package: hmdbQuery Version: 1.28.0 Command: /Library/Frameworks/R.framework/Resources/bin/R CMD INSTALL hmdbQuery StartedAt: 2025-10-13 15:36:22 -0400 (Mon, 13 Oct 2025) EndedAt: 2025-10-13 15:36:28 -0400 (Mon, 13 Oct 2025) EllapsedTime: 6.0 seconds RetCode: 0 Status: OK