Package: hmdbQuery Version: 1.28.0 Command: /Library/Frameworks/R.framework/Resources/bin/R CMD build --keep-empty-dirs --no-resave-data hmdbQuery StartedAt: 2025-10-14 02:22:56 -0400 (Tue, 14 Oct 2025) EndedAt: 2025-10-14 02:23:29 -0400 (Tue, 14 Oct 2025) EllapsedTime: 32.6 seconds RetCode: 0 Status: OK PackageFile: hmdbQuery_1.28.0.tar.gz PackageFileSize: 749.3 KiB