Package: hmdbQuery Version: 1.28.0 Command: rm -rf hmdbQuery.buildbin-libdir && mkdir hmdbQuery.buildbin-libdir && /Users/biocbuild/BBS/utils/build-universal.sh hmdbQuery_1.28.0.tar.gz /Library/Frameworks/R.framework/Resources/bin/R hmdbQuery.buildbin-libdir StartedAt: 2025-10-15 18:52:30 -0400 (Wed, 15 Oct 2025) EndedAt: 2025-10-15 18:52:38 -0400 (Wed, 15 Oct 2025) EllapsedTime: 7.9 seconds RetCode: 0 Status: OK PackageFile: hmdbQuery_1.28.0.tgz PackageFileSize: 887.9 KiB