Package: hierinf Version: 1.26.0 Command: /home/biocbuild/R/R/bin/R CMD INSTALL hierinf StartedAt: 2025-10-13 20:16:40 -0000 (Mon, 13 Oct 2025) EndedAt: 2025-10-13 20:17:25 -0000 (Mon, 13 Oct 2025) EllapsedTime: 45.0 seconds RetCode: 0 Status: OK