Package: hierinf Version: 1.26.0 Command: /home/biocbuild/R/R/bin/R CMD build --keep-empty-dirs --no-resave-data hierinf StartedAt: 2025-10-14 01:39:41 -0000 (Tue, 14 Oct 2025) EndedAt: 2025-10-14 01:42:25 -0000 (Tue, 14 Oct 2025) EllapsedTime: 164.1 seconds RetCode: 0 Status: OK PackageFile: hierinf_1.26.0.tar.gz PackageFileSize: 422.1 KiB