Package: hierinf Version: 1.26.0 Command: /Library/Frameworks/R.framework/Resources/bin/R CMD build --keep-empty-dirs --no-resave-data hierinf StartedAt: 2025-10-14 02:18:16 -0400 (Tue, 14 Oct 2025) EndedAt: 2025-10-14 02:20:26 -0400 (Tue, 14 Oct 2025) EllapsedTime: 130.1 seconds RetCode: 0 Status: OK PackageFile: hierinf_1.26.0.tar.gz PackageFileSize: 432.1 KiB