Package: hierGWAS Version: 1.38.0 Command: /home/biocbuild/bbs-3.21-bioc/R/bin/R CMD INSTALL hierGWAS StartedAt: 2025-10-15 15:05:23 -0400 (Wed, 15 Oct 2025) EndedAt: 2025-10-15 15:05:47 -0400 (Wed, 15 Oct 2025) EllapsedTime: 23.9 seconds RetCode: 0 Status: OK