Package: hierGWAS Version: 1.38.0 Command: /home/biocbuild/R/R/bin/R CMD build --keep-empty-dirs --no-resave-data hierGWAS StartedAt: 2025-10-14 01:39:10 -0000 (Tue, 14 Oct 2025) EndedAt: 2025-10-14 01:41:39 -0000 (Tue, 14 Oct 2025) EllapsedTime: 148.8 seconds RetCode: 0 Status: OK PackageFile: hierGWAS_1.38.0.tar.gz PackageFileSize: 556.1 KiB