Package: hierGWAS Version: 1.38.0 Command: /Library/Frameworks/R.framework/Resources/bin/R CMD build --keep-empty-dirs --no-resave-data hierGWAS StartedAt: 2025-10-14 02:17:59 -0400 (Tue, 14 Oct 2025) EndedAt: 2025-10-14 02:20:21 -0400 (Tue, 14 Oct 2025) EllapsedTime: 142.5 seconds RetCode: 0 Status: OK PackageFile: hierGWAS_1.38.0.tar.gz PackageFileSize: 567.8 KiB