Package: hierGWAS Version: 1.38.0 Command: rm -rf hierGWAS.buildbin-libdir && mkdir hierGWAS.buildbin-libdir && /Users/biocbuild/BBS/utils/build-universal.sh hierGWAS_1.38.0.tar.gz /Library/Frameworks/R.framework/Resources/bin/R hierGWAS.buildbin-libdir StartedAt: 2025-10-15 18:52:01 -0400 (Wed, 15 Oct 2025) EndedAt: 2025-10-15 18:52:09 -0400 (Wed, 15 Oct 2025) EllapsedTime: 7.9 seconds RetCode: 0 Status: OK PackageFile: hierGWAS_1.38.0.tgz PackageFileSize: 555.1 KiB