Package: hicVennDiagram Version: 1.6.1 Command: /home/biocbuild/bbs-3.21-bioc/R/bin/R CMD INSTALL hicVennDiagram StartedAt: 2025-10-15 15:26:16 -0400 (Wed, 15 Oct 2025) EndedAt: 2025-10-15 15:26:52 -0400 (Wed, 15 Oct 2025) EllapsedTime: 36.1 seconds RetCode: 0 Status: OK