Package: hicVennDiagram Version: 1.6.1 Command: /home/biocbuild/bbs-3.21-bioc/R/bin/R CMD build --keep-empty-dirs --no-resave-data hicVennDiagram StartedAt: 2025-10-15 17:58:51 -0400 (Wed, 15 Oct 2025) EndedAt: 2025-10-15 18:00:56 -0400 (Wed, 15 Oct 2025) EllapsedTime: 125.2 seconds RetCode: 0 Status: OK PackageFile: hicVennDiagram_1.6.1.tar.gz PackageFileSize: 1.125 MiB