Package: hicVennDiagram Version: 1.6.1 Command: rm -rf hicVennDiagram.buildbin-libdir && mkdir hicVennDiagram.buildbin-libdir && /Users/biocbuild/BBS/utils/build-universal.sh hicVennDiagram_1.6.1.tar.gz /Library/Frameworks/R.framework/Resources/bin/R hicVennDiagram.buildbin-libdir StartedAt: 2025-10-14 13:43:25 -0400 (Tue, 14 Oct 2025) EndedAt: 2025-10-14 13:45:36 -0400 (Tue, 14 Oct 2025) EllapsedTime: 131.5 seconds RetCode: 0 Status: OK PackageFile: hicVennDiagram_1.6.1.tgz PackageFileSize: 1.456 MiB