Package: hicVennDiagram Version: 1.6.1 Command: /home/biocbuild/R/R/bin/R CMD INSTALL hicVennDiagram StartedAt: 2025-10-13 20:41:20 -0000 (Mon, 13 Oct 2025) EndedAt: 2025-10-13 20:42:12 -0000 (Mon, 13 Oct 2025) EllapsedTime: 52.2 seconds RetCode: 0 Status: OK