Package: hicVennDiagram Version: 1.6.1 Command: /home/biocbuild/R/R/bin/R CMD build --keep-empty-dirs --no-resave-data hicVennDiagram StartedAt: 2025-10-14 01:38:48 -0000 (Tue, 14 Oct 2025) EndedAt: 2025-10-14 01:41:51 -0000 (Tue, 14 Oct 2025) EllapsedTime: 182.8 seconds RetCode: 0 Status: OK PackageFile: hicVennDiagram_1.6.1.tar.gz PackageFileSize: 1.043 MiB