Package: hicVennDiagram Version: 1.6.1 Command: /Library/Frameworks/R.framework/Resources/bin/R CMD INSTALL hicVennDiagram StartedAt: 2025-10-13 16:40:29 -0400 (Mon, 13 Oct 2025) EndedAt: 2025-10-13 16:41:12 -0400 (Mon, 13 Oct 2025) EllapsedTime: 43.2 seconds RetCode: 0 Status: OK