Package: hicVennDiagram Version: 1.6.1 Command: /Library/Frameworks/R.framework/Resources/bin/R CMD build --keep-empty-dirs --no-resave-data hicVennDiagram StartedAt: 2025-10-14 02:17:51 -0400 (Tue, 14 Oct 2025) EndedAt: 2025-10-14 02:20:09 -0400 (Tue, 14 Oct 2025) EllapsedTime: 138.0 seconds RetCode: 0 Status: OK PackageFile: hicVennDiagram_1.6.1.tar.gz PackageFileSize: 1.184 MiB