Package: hiReadsProcessor Version: 1.44.0 Command: /Library/Frameworks/R.framework/Resources/bin/R CMD INSTALL hiReadsProcessor StartedAt: 2025-10-13 16:30:21 -0400 (Mon, 13 Oct 2025) EndedAt: 2025-10-13 16:31:43 -0400 (Mon, 13 Oct 2025) EllapsedTime: 82.0 seconds RetCode: 0 Status: OK