Package: hiReadsProcessor Version: 1.44.0 Command: /Library/Frameworks/R.framework/Resources/bin/R CMD build --keep-empty-dirs --no-resave-data hiReadsProcessor StartedAt: 2025-10-13 19:45:41 -0400 (Mon, 13 Oct 2025) EndedAt: 2025-10-13 19:48:12 -0400 (Mon, 13 Oct 2025) EllapsedTime: 151.4 seconds RetCode: 0 Status: OK PackageFile: hiReadsProcessor_1.44.0.tar.gz PackageFileSize: 3.148 MiB