Package: hiReadsProcessor Version: 1.44.0 Command: rm -rf hiReadsProcessor.buildbin-libdir && mkdir hiReadsProcessor.buildbin-libdir && /Users/biocbuild/BBS/utils/build-universal.sh hiReadsProcessor_1.44.0.tar.gz /Library/Frameworks/R.framework/Resources/bin/R hiReadsProcessor.buildbin-libdir StartedAt: 2025-10-14 13:43:44 -0400 (Tue, 14 Oct 2025) EndedAt: 2025-10-14 13:46:10 -0400 (Tue, 14 Oct 2025) EllapsedTime: 146.6 seconds RetCode: 0 Status: OK PackageFile: hiReadsProcessor_1.44.0.tgz PackageFileSize: 3.004 MiB