Package: hiReadsProcessor Version: 1.44.0 Command: /Library/Frameworks/R.framework/Resources/bin/R CMD INSTALL hiReadsProcessor StartedAt: 2025-10-13 18:00:05 -0400 (Mon, 13 Oct 2025) EndedAt: 2025-10-13 18:00:49 -0400 (Mon, 13 Oct 2025) EllapsedTime: 44.7 seconds RetCode: 0 Status: OK