Package: hiReadsProcessor Version: 1.44.0 Command: rm -rf hiReadsProcessor.buildbin-libdir && mkdir hiReadsProcessor.buildbin-libdir && /Users/biocbuild/BBS/utils/build-universal.sh hiReadsProcessor_1.44.0.tar.gz /Library/Frameworks/R.framework/Resources/bin/R hiReadsProcessor.buildbin-libdir StartedAt: 2025-10-15 18:52:11 -0400 (Wed, 15 Oct 2025) EndedAt: 2025-10-15 18:53:01 -0400 (Wed, 15 Oct 2025) EllapsedTime: 50.0 seconds RetCode: 0 Status: OK PackageFile: hiReadsProcessor_1.44.0.tgz PackageFileSize: 3.003 MiB