Package: hiAnnotator Version: 1.42.0 Command: /home/biocbuild/R/R/bin/R CMD build --keep-empty-dirs --no-resave-data hiAnnotator StartedAt: 2025-10-14 01:36:44 -0000 (Tue, 14 Oct 2025) EndedAt: 2025-10-14 01:38:06 -0000 (Tue, 14 Oct 2025) EllapsedTime: 82.0 seconds RetCode: 0 Status: OK PackageFile: hiAnnotator_1.42.0.tar.gz PackageFileSize: 757.5 KiB