Package: h5vc Version: 2.42.0 Command: /home/biocbuild/R/R/bin/R CMD INSTALL h5vc StartedAt: 2025-10-13 20:28:42 -0000 (Mon, 13 Oct 2025) EndedAt: 2025-10-13 20:29:10 -0000 (Mon, 13 Oct 2025) EllapsedTime: 28.3 seconds RetCode: 0 Status: OK