Package: gsean Version: 1.28.0 Command: /home/biocbuild/bbs-3.21-bioc/R/bin/R CMD build --keep-empty-dirs --no-resave-data gsean StartedAt: 2025-10-15 17:52:54 -0400 (Wed, 15 Oct 2025) EndedAt: 2025-10-15 17:53:56 -0400 (Wed, 15 Oct 2025) EllapsedTime: 62.1 seconds RetCode: 0 Status: OK PackageFile: gsean_1.28.0.tar.gz PackageFileSize: 1.535 MiB