Package: gsean Version: 1.28.0 Command: /home/biocbuild/R/R/bin/R CMD INSTALL gsean StartedAt: 2025-10-13 20:47:12 -0000 (Mon, 13 Oct 2025) EndedAt: 2025-10-13 20:47:47 -0000 (Mon, 13 Oct 2025) EllapsedTime: 34.7 seconds RetCode: 0 Status: OK