Package: gsean Version: 1.28.0 Command: /home/biocbuild/R/R/bin/R CMD build --keep-empty-dirs --no-resave-data gsean StartedAt: 2025-10-14 01:30:50 -0000 (Tue, 14 Oct 2025) EndedAt: 2025-10-14 01:32:11 -0000 (Tue, 14 Oct 2025) EllapsedTime: 81.1 seconds RetCode: 0 Status: OK PackageFile: gsean_1.28.0.tar.gz PackageFileSize: 2.118 MiB