Package: gscreend Version: 1.22.0 Command: /home/biocbuild/R/R/bin/R CMD INSTALL gscreend StartedAt: 2025-10-13 20:30:55 -0000 (Mon, 13 Oct 2025) EndedAt: 2025-10-13 20:31:26 -0000 (Mon, 13 Oct 2025) EllapsedTime: 30.8 seconds RetCode: 0 Status: OK