Package: gscreend Version: 1.22.0 Command: /home/biocbuild/R/R/bin/R CMD build --keep-empty-dirs --no-resave-data gscreend StartedAt: 2025-10-14 01:29:40 -0000 (Tue, 14 Oct 2025) EndedAt: 2025-10-14 01:32:52 -0000 (Tue, 14 Oct 2025) EllapsedTime: 192.1 seconds RetCode: 0 Status: OK PackageFile: gscreend_1.22.0.tar.gz PackageFileSize: 3.136 MiB