Package: graphite Version: 1.54.0 Command: /home/biocbuild/bbs-3.21-bioc/R/bin/R CMD build --keep-empty-dirs --no-resave-data graphite StartedAt: 2025-10-15 17:50:54 -0400 (Wed, 15 Oct 2025) EndedAt: 2025-10-15 17:51:50 -0400 (Wed, 15 Oct 2025) EllapsedTime: 56.0 seconds RetCode: 0 Status: OK PackageFile: graphite_1.54.0.tar.gz PackageFileSize: 766.6 KiB