Package: graphite Version: 1.54.0 Command: /home/biocbuild/R/R/bin/R CMD build --keep-empty-dirs --no-resave-data graphite StartedAt: 2025-10-14 01:27:32 -0000 (Tue, 14 Oct 2025) EndedAt: 2025-10-14 01:28:48 -0000 (Tue, 14 Oct 2025) EllapsedTime: 76.0 seconds RetCode: 0 Status: OK PackageFile: graphite_1.54.0.tar.gz PackageFileSize: 758.9 KiB