Package: graphite Version: 1.54.0 Command: /Library/Frameworks/R.framework/Resources/bin/R CMD INSTALL graphite StartedAt: 2025-10-13 15:47:32 -0400 (Mon, 13 Oct 2025) EndedAt: 2025-10-13 15:47:48 -0400 (Mon, 13 Oct 2025) EllapsedTime: 16.6 seconds RetCode: 0 Status: OK