Package: graphite Version: 1.54.0 Command: rm -rf graphite.buildbin-libdir && mkdir graphite.buildbin-libdir && /Users/biocbuild/BBS/utils/build-universal.sh graphite_1.54.0.tar.gz /Library/Frameworks/R.framework/Resources/bin/R graphite.buildbin-libdir StartedAt: 2025-10-15 18:46:58 -0400 (Wed, 15 Oct 2025) EndedAt: 2025-10-15 18:47:16 -0400 (Wed, 15 Oct 2025) EllapsedTime: 17.9 seconds RetCode: 0 Status: OK PackageFile: graphite_1.54.0.tgz PackageFileSize: 903.8 KiB