Package: graph Version: 1.86.0 Command: /home/biocbuild/bbs-3.21-bioc/R/bin/R CMD INSTALL graph StartedAt: 2025-10-15 15:11:07 -0400 (Wed, 15 Oct 2025) EndedAt: 2025-10-15 15:11:18 -0400 (Wed, 15 Oct 2025) EllapsedTime: 11.4 seconds RetCode: 0 Status: OK