Package: graph Version: 1.86.0 Command: /home/biocbuild/R/R/bin/R CMD INSTALL graph StartedAt: 2025-10-13 20:23:11 -0000 (Mon, 13 Oct 2025) EndedAt: 2025-10-13 20:23:29 -0000 (Mon, 13 Oct 2025) EllapsedTime: 18.4 seconds RetCode: 0 Status: OK