Package: graph Version: 1.86.0 Command: /home/biocbuild/R/R/bin/R CMD build --keep-empty-dirs --no-resave-data graph StartedAt: 2025-10-14 01:26:38 -0000 (Tue, 14 Oct 2025) EndedAt: 2025-10-14 01:27:22 -0000 (Tue, 14 Oct 2025) EllapsedTime: 44.0 seconds RetCode: 0 Status: OK PackageFile: graph_1.86.0.tar.gz PackageFileSize: 1.548 MiB