Package: graper Version: 1.24.2 Command: /home/biocbuild/R/R/bin/R CMD INSTALL graper StartedAt: 2025-10-13 20:19:25 -0000 (Mon, 13 Oct 2025) EndedAt: 2025-10-13 20:20:19 -0000 (Mon, 13 Oct 2025) EllapsedTime: 53.5 seconds RetCode: 0 Status: OK