Package: gpuMagic Version: 1.24.0 Command: /Library/Frameworks/R.framework/Resources/bin/R CMD build --keep-empty-dirs --no-resave-data gpuMagic StartedAt: 2025-10-13 19:29:59 -0400 (Mon, 13 Oct 2025) EndedAt: 2025-10-13 19:31:35 -0400 (Mon, 13 Oct 2025) EllapsedTime: 96.4 seconds RetCode: 0 Status: OK PackageFile: gpuMagic_1.24.0.tar.gz PackageFileSize: 737 KiB