Package: gpuMagic Version: 1.24.0 Command: rm -rf gpuMagic.buildbin-libdir && mkdir gpuMagic.buildbin-libdir && /Users/biocbuild/BBS/utils/build-universal.sh gpuMagic_1.24.0.tar.gz /Library/Frameworks/R.framework/Resources/bin/R gpuMagic.buildbin-libdir StartedAt: 2025-10-14 13:38:44 -0400 (Tue, 14 Oct 2025) EndedAt: 2025-10-14 13:40:03 -0400 (Tue, 14 Oct 2025) EllapsedTime: 78.2 seconds RetCode: 0 Status: OK PackageFile: gpuMagic_1.24.0.tgz PackageFileSize: 1.486 MiB