Package: gpuMagic Version: 1.24.0 Command: /home/biocbuild/R/R/bin/R CMD INSTALL gpuMagic StartedAt: 2025-10-13 20:23:27 -0000 (Mon, 13 Oct 2025) EndedAt: 2025-10-13 20:23:31 -0000 (Mon, 13 Oct 2025) EllapsedTime: 4.0 seconds RetCode: 1 Status: ERROR