Package: gpuMagic Version: 1.24.0 Command: /Library/Frameworks/R.framework/Resources/bin/R CMD INSTALL gpuMagic StartedAt: 2025-10-13 15:54:12 -0400 (Mon, 13 Oct 2025) EndedAt: 2025-10-13 15:54:35 -0400 (Mon, 13 Oct 2025) EllapsedTime: 22.3 seconds RetCode: 0 Status: OK