Package: gpls Version: 1.80.0 Command: /home/biocbuild/bbs-3.21-bioc/R/bin/R CMD build --keep-empty-dirs --no-resave-data gpls StartedAt: 2025-10-15 17:49:37 -0400 (Wed, 15 Oct 2025) EndedAt: 2025-10-15 17:49:46 -0400 (Wed, 15 Oct 2025) EllapsedTime: 9.0 seconds RetCode: 0 Status: OK PackageFile: gpls_1.80.0.tar.gz PackageFileSize: 233.1 KiB