Package: gpls Version: 1.80.0 Command: /Library/Frameworks/R.framework/Resources/bin/R CMD build --keep-empty-dirs --no-resave-data gpls StartedAt: 2025-10-13 19:29:38 -0400 (Mon, 13 Oct 2025) EndedAt: 2025-10-13 19:30:03 -0400 (Mon, 13 Oct 2025) EllapsedTime: 24.8 seconds RetCode: 0 Status: OK PackageFile: gpls_1.80.0.tar.gz PackageFileSize: 233 KiB