Package: goTools Version: 1.82.0 Command: rm -rf goTools.buildbin-libdir && mkdir goTools.buildbin-libdir && /Users/biocbuild/BBS/utils/build-universal.sh goTools_1.82.0.tar.gz /Library/Frameworks/R.framework/Resources/bin/R goTools.buildbin-libdir StartedAt: 2025-10-14 13:38:32 -0400 (Tue, 14 Oct 2025) EndedAt: 2025-10-14 13:39:17 -0400 (Tue, 14 Oct 2025) EllapsedTime: 44.9 seconds RetCode: 0 Status: OK PackageFile: goTools_1.82.0.tgz PackageFileSize: 261 KiB