Package: goProfiles Version: 1.70.0 Command: /home/biocbuild/R/R/bin/R CMD INSTALL goProfiles StartedAt: 2025-10-13 21:03:55 -0000 (Mon, 13 Oct 2025) EndedAt: 2025-10-13 21:04:16 -0000 (Mon, 13 Oct 2025) EllapsedTime: 20.9 seconds RetCode: 0 Status: OK