Package: goProfiles Version: 1.70.0 Command: /home/biocbuild/R/R/bin/R CMD build --keep-empty-dirs --no-resave-data goProfiles StartedAt: 2025-10-14 01:23:26 -0000 (Tue, 14 Oct 2025) EndedAt: 2025-10-14 01:24:18 -0000 (Tue, 14 Oct 2025) EllapsedTime: 52.0 seconds RetCode: 0 Status: OK PackageFile: goProfiles_1.70.0.tar.gz PackageFileSize: 285.3 KiB