Package: gmapR Version: 1.50.0 Command: /home/biocbuild/R/R/bin/R CMD INSTALL gmapR StartedAt: 2025-10-13 20:56:21 -0000 (Mon, 13 Oct 2025) EndedAt: 2025-10-13 21:07:45 -0000 (Mon, 13 Oct 2025) EllapsedTime: 683.9 seconds RetCode: 0 Status: OK