Package: globaltest Version: 5.62.0 Command: /home/biocbuild/bbs-3.21-bioc/R/bin/R CMD build --keep-empty-dirs --no-resave-data globaltest StartedAt: 2025-10-15 17:45:49 -0400 (Wed, 15 Oct 2025) EndedAt: 2025-10-15 17:49:08 -0400 (Wed, 15 Oct 2025) EllapsedTime: 199.1 seconds RetCode: 0 Status: OK PackageFile: globaltest_5.62.0.tar.gz PackageFileSize: 560.7 KiB