Package: globaltest Version: 5.62.0 Command: /home/biocbuild/R/R/bin/R CMD INSTALL globaltest StartedAt: 2025-10-13 20:42:58 -0000 (Mon, 13 Oct 2025) EndedAt: 2025-10-13 20:43:30 -0000 (Mon, 13 Oct 2025) EllapsedTime: 32.5 seconds RetCode: 0 Status: OK